Workbook
Name UOafferente: '[1]Process Owner'!#REF!
Name UOafferente: #REF!

Sheet Cover
C1: Business Impact Analysis (BIA) | D1: MDPR28.1.A
D2: Rev. 0.0 | E2: 46136
B4: BIA - Business Impact Analysis | E4: Rev. | F4: Data | G4: Descrizione | H4: Redatto | I4: Approvato | J4: Classificazione
E5: 0.0 | G5: Prima emissione
B6: Ambito di applicazione della BIA
B7: Valore di soglia RTO
B8: Valore di soglia MTPD
B9: Data di compilazione
B10: Redattori | C10: [Nominativo e Ruolo]
B11: Intervistati | C11: [Nominativo e Ruolo]
B12: Data prossima revisione
B13: Ultimo aggiornamento

Sheet Metodologia
D1: Business Impact Analysis (BIA) | J1: MDPR28.1.A
J2: Rev. 0.0 | K2: 46136
B4: L'Analisi di Impatto sul Business (BIA) considera tutti i processi di business al fine di identificare quelli critici e i relativi tempi stabiliti per il ripristino.
B5: Viene effettuata con la collaborazione dei Process Owner attraverso interviste.
B6: Per ciacun processo possono essere valutati impatti di natura: economica, reputazionale, legale, operativa, ambientale, ecc.
B7: L'Organizzazione scegli i parametri di impatto in base al proprio contesto.
B9: Gli impatti definiti tengono conto, nei processi, della gestione dei dati personali.
B11: Al crescere del tempo di interruzione del business (1 ora, 4 ore, un giorno, tre giorni ecc..) crescono i relativi impatti che sono quantificati come segue:
B13: Molto Basso | C13: Basso | D13: Medio | E13: Alto | F13: Molto Alto
B14: 1 | C14: 2 | D14: 3 | E14: 4 | F14: 5
B16: A ciascun valore quantitativo viene, quindi, associato un valore numerico ottenedo dei valori minimi e dei valori massimi per ogni fascia temporale (1 ora, 4 ore, un giorno, tre giorni ecc..) che dipendono dal numero di parametri di impatto considerati.
B17: Ad esempio, considerando un numero di quattro parametri, i valori minimi e massimi che è possibile ottenere dalla valutazione di impatto sono:
B19: Impatto economico | C19: 0 | D19: 5
B20: Impatto reputazionale | C20: 0 | D20: 5
B21: Impatto legale | C21: 0 | D21: 5
B22: Impatto operativo | C22: 0 | D22: 5
B23: Impatto ambientale | C23: 0 | D23: 5
B24: TOTALE | C24: 0 | D24: 25
C25: Val minimo | D25: Val massimo
B27: Sulla base del numero di parametri considerati, è necessario individuare il valore di soglia per stabilire il valore di RTO e quello per stabilire il valore di MTPD. Generalmente, per individuare il valore di RTO si sceglie quel valore dove tutti i valori sono medi o almeno uno di essi è maggiore di un valore medio).
B28: Si assume che per valori > oppure = a quello del valore soglia, il processo debba essere necessariamente rirpistinato in quanto per valori superiori l'interruzione può comportare danni molto gravi o irreparabili.
B29: Di conseguenza, l'ntervallo temporale per cui il valore uguaglia o supera la soglia viene scelto come tempo di ripristino massimo (RTO) e come tempo oltre il quale il servizio è compromesso (MTPD).
B30: Esempio:
B32: ATTIVITÀ: Erogazione di servizi cloud in modalità SaaS | I32: ATTIVITÀ: Erogazione di servizi cloud in modalità SaaS
B33: Tempo | C33: Impatto economico | D33: Impatto reputazionale | E33: Impatto legale | F33: Impatto operativo | G33: Impatto ambientale | I33: Tempo | J33: Impatto economico | K33: Impatto reputazionale | L33: Impatto legale | M33: Impatto operativo | N33: Impatto ambientale | O33: Punteggio totale
B34: 1 ora | C34: Molto Basso | D34: Basso | E34: Molto Basso | F34: Molto Basso | G34: Basso | I34: 1 ora | J34: 1 | K34: 2 | L34: 1 | M34: 1 | N34: 2 | O34: =SUM(Impact17[[#This Row],[Impatto economico]:[Impatto ambientale]]) -> 7
B35: 4 ore | C35: Basso | D35: Medio | E35: Basso | F35: Basso | G35: Basso | I35: 4 ore | J35: 2 | K35: 3 | L35: 2 | M35: 2 | N35: 2 | O35: =SUM(Impact17[[#This Row],[Impatto economico]:[Impatto ambientale]]) -> 11
B36: 1 giorno | C36: Medio | D36: Alto | E36: Medio | F36: Medio | G36: Basso | I36: 1 giorno | J36: 3 | K36: 4 | L36: 3 | M36: 3 | N36: 2 | O36: =SUM(Impact17[[#This Row],[Impatto economico]:[Impatto ambientale]]) -> 15
B37: 3 giorni | C37: Alto | D37: Alto | E37: Alto | F37: Alto | G37: Basso | I37: 3 giorni | J37: 4 | K37: 4 | L37: 4 | M37: 4 | N37: 2 | O37: =SUM(Impact17[[#This Row],[Impatto economico]:[Impatto ambientale]]) -> 18
B38: 1 settimana | C38: Alto | D38: Molto Alto | E38: Alto | F38: Alto | G38: Basso | I38: 1 settimana | J38: 4 | K38: 5 | L38: 4 | M38: 4 | N38: 2 | O38: =SUM(Impact17[[#This Row],[Impatto economico]:[Impatto ambientale]]) -> 19
B39: 1 mese | C39: Molto Alto | D39: Molto Alto | E39: Molto Alto | F39: Molto Alto | G39: Basso | I39: 1 mese | J39: 5 | K39: 5 | L39: 5 | M39: 5 | N39: 2 | O39: =SUM(Impact17[[#This Row],[Impatto economico]:[Impatto ambientale]]) -> 22
B41: Sulla base dei valori emersi, sono stabilite le priorità di ripristino dei singoli processi; a parità di RTO, la priorità di ripristino è determinata analizzando:
B42: • le dipendenze tra i processi --> i processi propedeutici o abilitanti per altri devono essere ripristinati prima
B43: • l'impatto sul business --> si valuta quale processo genera maggiore impatto economico, operativo o reputazionale se non ripristinato
B44: • eventuali obblighi normativi o contrattuali --> processi soggetti a requisiti legali, regolatori o SLA con clienti hanno la priorità
B45: • risorse necessarie e disponibilità --> la priorità dipende anche da risorse condivise (personale, sistemi, infrastrutture).

Sheet Definizioni
C1: Business Impact Analysis (BIA) | I1: MDPR28.1.A
I2: Rev. 0.0 | J2: 46136
B5: Termini e Definizioni
B6: Le seguenti definizioni derivano da ISO22301 and ISO22300
B8: TERMINE | C8: DEFINIZIONE
B9: Attività | C9: Processo o insieme di processi intrapresi da un'Organizzazione (o per suo conto) che produce o supporta uno o più prodotti e servizi. Ad esempio, tali processi includono contabilità, call center, IT, produzione e distribuzione.
B10: Attività prioritarie | C10: Attività a cui dare priorità di ripristino a seguito di un incidente per attenuarne gli impatti.
B11: Analisi dell'Impatto sul Business (BIA) | C11: Processo di analisi delle attività e degli effetti che un'interruzione aziendale potrebbe avere su di esse.
B12: Maximum acceptable outage (MAO) | C12: Tempo necessario affinché gli impatti negativi, che potrebbero derivare dalla mancata fornitura di un prodotto/servizio o dall'esecuzione di un'attività, diventino inaccettabili (vedere anche MTPD).
B13: Maximum tolerable period of disruption (MTPD) | C13: Tempo massimo oltre il quale la mancata fornitura di prodotti e servizi o la non esecuzione di una attività diventa inaccettabile per l’Organizzazione(vedere anche MAO).
B14: Minimum business continuity objective (MBCO) | C14: Livello minimo accettabile di erogazione delle attività o operatività dei sistemi/servizi per l'Organizzazione affinchè possa raggiungere i propri obiettivi aziendali durante un'interruzione.
B15: Prodotti e servizi | C15: Benefici forniti da un'Organizzazione ai suoi clienti, destinatari e parti interessate.
B16: Recovery point objective (RPO) | C16: Quantità massima di dati o transazioni che è tollerabile perdere in caso di disastro. Per i sistemi informatici corrisponde al tempo tra un backup e l’altro, per le informazioni in altro formato corrisponde al tempo necessario alla loro copia e archiviazione in un luogo alternativo. NOTA: può essere definito anche "massima perdita di dati".
B17: Recovery time objective (RTO) | C17: Periodo di tempo successivo a un incidente entro il quale l’operatività del sistema/servizio o dell'attività/processo organizzativo deve essere ripristinata. NOTA: per prodotti, servizi e attività, l'obiettivo del tempo di ripristino deve essere inferiore al tempo necessario affinché gli impatti negativi che si verificherebbero a seguito della mancata fornitura di un prodotto/servizio o dell'esecuzione di un'attività diventino inaccettabili (RTO < MTPD).

Sheet Attività di business-ICT
D1: Business Impact Analysis (BIA) | I1: MDPR28.1.A
I2: Rev. 0.0 | J2: 46136
B4: Identificazione delle attività di business e delle attività ICT
B5: [Elencare tutte le attività di business e le attività ICT correlate, con i relativi requisiti]
E7: RISORSE ORDINARIAMENTE NECESSARIE PER LO SVOLGIMENTO DELLE ATTIVITÀ DI BUSINESS
B8: ID | C8: Attività di Business | D8: Attività ICT a supporto | E8: Numero risorse (personale che esercita regolarmente l'attività) | F8: Dati e Informazioni chiave | G8: Sito, ambiente di lavoro (luogo fisico dal quale si esercita l'attività) | H8: Attrezzature e materiali di consumo | I8: Sistemi ICT utilizzati | J8: Trasporti (mezzi utilizzati in caso di spostamento di materiale) | K8: Partners e Fornitori a supporto | L8: Eventuali obblighi legali, statutari e contrattuali | M8: Numero risorse in emergenza (personale minimo da prevedere in emergenza per garantire l'erogazione del processo)
B9: 1
B10: 2
B11: 3
B12: 4
B13: 5
B14: 6
B15: 7
B16: 8
B17: 9
B18: 10

Sheet Impatti
D1: Business Impact Analysis (BIA) | I1: MDPR28.1.A
I2: Rev. 0.0 | J2: 46136
B4: Impatti sulla continuità delle attività di business
B5: [Per ogni attività di business, valutare l'andamento nel tempo degli impatti di un'interruzione dell'attività a seguito di uno o più scenari disastrosi. Ad esempio: impatto economico, reputazionale, legale, operativo, ambientale, ecc.]
B7: ATTIVITÀ: [Inserire attività]
B8: Tempo | C8: Impatto economico | D8: Impatto reputazionale | E8: Impatto legale | F8: Impatto operativo | G8: Impatto ambientale | H8: Impatto XXXX | I8: Punteggio totale
B9: 1 ora | C9: Selezionare… | D9: Selezionare… | E9: Selezionare… | F9: Selezionare… | G9: Selezionare… | H9: Selezionare… | I9: =SUM(Impatti!$C9:$H9) -> 0
B10: 4 ore | C10: Selezionare… | D10: Selezionare… | E10: Selezionare… | F10: Selezionare… | G10: Selezionare… | H10: Selezionare… | I10: =SUM(Impatti!$C10:$H10) -> 0
B11: 1 giorno | C11: Selezionare… | D11: Selezionare… | E11: Selezionare… | F11: Selezionare… | G11: Selezionare… | H11: Selezionare… | I11: =SUM(Impatti!$C11:$H11) -> 0
B12: 3 giorni | C12: Selezionare… | D12: Selezionare… | E12: Selezionare… | F12: Selezionare… | G12: Selezionare… | H12: Selezionare… | I12: =SUM(Impatti!$C12:$H12) -> 0
B13: 1 settimana | C13: Selezionare… | D13: Selezionare… | E13: Selezionare… | F13: Selezionare… | G13: Selezionare… | H13: Selezionare… | I13: =SUM(Impatti!$C13:$H13) -> 0
B14: 1 mese | C14: Selezionare… | D14: Selezionare… | E14: Selezionare… | F14: Selezionare… | G14: Selezionare… | H14: Selezionare… | I14: =SUM(Impatti!$C14:$H14) -> 0
B16: Molto Basso | C16: Basso | D16: Medio | E16: Alto | F16: Molto Alto | G16: COMPLETATO DA | H16: [Inserire nominativo e ruolo]
B17: 1 | C17: 2 | D17: 3 | E17: 4 | F17: 5 | G17: DATA
B20: ATTIVITÀ: [Inserire attività]
B21: Tempo | C21: Impatto economico | D21: Impatto reputazionale | E21: Impatto legale | F21: Impatto operativo | G21: Impatto ambientale | H21: Impatto XXXX | I21: Punteggio totale
B22: 1 ora | C22: Selezionare… | D22: Selezionare… | E22: Selezionare… | F22: Selezionare… | G22: Selezionare… | H22: Selezionare… | I22: =SUM(Impatti!$C22:$H22) -> 0
B23: 4 ore | C23: Selezionare… | D23: Selezionare… | E23: Selezionare… | F23: Selezionare… | G23: Selezionare… | H23: Selezionare… | I23: =SUM(Impatti!$C23:$H23) -> 0
B24: 1 giorno | C24: Selezionare… | D24: Selezionare… | E24: Selezionare… | F24: Selezionare… | G24: Selezionare… | H24: Selezionare… | I24: =SUM(Impatti!$C24:$H24) -> 0
B25: 3 giorni | C25: Selezionare… | D25: Selezionare… | E25: Selezionare… | F25: Selezionare… | G25: Selezionare… | H25: Selezionare… | I25: =SUM(Impatti!$C25:$H25) -> 0
B26: 1 settimana | C26: Selezionare… | D26: Selezionare… | E26: Selezionare… | F26: Selezionare… | G26: Selezionare… | H26: Selezionare… | I26: =SUM(Impatti!$C26:$H26) -> 0
B27: 1 mese | C27: Selezionare… | D27: Selezionare… | E27: Selezionare… | F27: Selezionare… | G27: Selezionare… | H27: Selezionare… | I27: =SUM(Impatti!$C27:$H27) -> 0
B29: Molto Basso | C29: Basso | D29: Medio | E29: Alto | F29: Molto Alto | G29: COMPLETATO DA | H29: [Inserire nominativo e ruolo]
B30: 1 | C30: 2 | D30: 3 | E30: 4 | F30: 5 | G30: DATA
B33: ATTIVITÀ: [Inserire attività]
B34: Tempo | C34: Impatto economico | D34: Impatto reputazionale | E34: Impatto legale | F34: Impatto operativo | G34: Impatto ambientale | H34: Impatto XXXX | I34: Punteggio totale
B35: 1 ora | C35: Selezionare… | D35: Selezionare… | E35: Selezionare… | F35: Selezionare… | G35: Selezionare… | H35: Selezionare… | I35: =SUM(Impatti!$C35:$H35) -> 0
B36: 4 ore | C36: Selezionare… | D36: Selezionare… | E36: Selezionare… | F36: Selezionare… | G36: Selezionare… | H36: Selezionare… | I36: =SUM(Impatti!$C36:$H36) -> 0
B37: 1 giorno | C37: Selezionare… | D37: Selezionare… | E37: Selezionare… | F37: Selezionare… | G37: Selezionare… | H37: Selezionare… | I37: =SUM(Impatti!$C37:$H37) -> 0
B38: 3 giorni | C38: Selezionare… | D38: Selezionare… | E38: Selezionare… | F38: Selezionare… | G38: Selezionare… | H38: Selezionare… | I38: =SUM(Impatti!$C38:$H38) -> 0
B39: 1 settimana | C39: Selezionare… | D39: Selezionare… | E39: Selezionare… | F39: Selezionare… | G39: Selezionare… | H39: Selezionare… | I39: =SUM(Impatti!$C39:$H39) -> 0
B40: 1 mese | C40: Selezionare… | D40: Selezionare… | E40: Selezionare… | F40: Selezionare… | G40: Selezionare… | H40: Selezionare… | I40: =SUM(Impatti!$C40:$H40) -> 0
B42: Molto Basso | C42: Basso | D42: Medio | E42: Alto | F42: Molto Alto | G42: COMPLETATO DA | H42: [Inserire nominativo e ruolo]
B43: 1 | C43: 2 | D43: 3 | E43: 4 | F43: 5 | G43: DATA
B46: ATTIVITÀ: [Inserire attività]
B47: Tempo | C47: Impatto economico | D47: Impatto reputazionale | E47: Impatto legale | F47: Impatto operativo | G47: Impatto ambientale | H47: Impatto XXXX | I47: Punteggio totale
B48: 1 ora | C48: Selezionare… | D48: Selezionare… | E48: Selezionare… | F48: Selezionare… | G48: Selezionare… | H48: Selezionare… | I48: =SUM(Impatti!$C48:$H48) -> 0
B49: 4 ore | C49: Selezionare… | D49: Selezionare… | E49: Selezionare… | F49: Selezionare… | G49: Selezionare… | H49: Selezionare… | I49: =SUM(Impatti!$C49:$H49) -> 0
B50: 1 giorno | C50: Selezionare… | D50: Selezionare… | E50: Selezionare… | F50: Selezionare… | G50: Selezionare… | H50: Selezionare… | I50: =SUM(Impatti!$C50:$H50) -> 0
B51: 3 giorni | C51: Selezionare… | D51: Selezionare… | E51: Selezionare… | F51: Selezionare… | G51: Selezionare… | H51: Selezionare… | I51: =SUM(Impatti!$C51:$H51) -> 0
...

Sheet Legenda impatti
D1: Business Impact Analysis (BIA) | I1: MDPR28.1.A
I2: Rev. 0.0 | J2: 46136
B4: LEVEL | D4: Impatto economico | E4: Impatto reputazionale | F4: Impatto legale | G4: Impatto operativo | H4: Impatto xxxxx | I4: Impatto xxxxx
B5: 1 | C5: Molto basso | D5: Nessuno o poche centinaia di euro, senza alcun effetto sulla redditività commerciale dell'Azienda. | E5: Nessuna citazione sulla stampa di settore. Nessun imbarazzo / minimo disagio interno, impercettibile dall'esterno. Divulgazione di informazioni facilmente deducibili, senza alcun rischio o conseguenza per l'Azienda. | F5: Nessuna violazione di contratto o regolamento. Eventuali reclami informali non sono stati perseguiti legalmente. Nessun coinvolgimento delle Autorità. | G5: Nessuna limitazione operativa per i team, solo lievi aggiustamenti del carico di lavoro. Nessuna interruzione o ritardo nella consegna superiore alla giornata lavorativa. Nessun impatto sulla continuità dei processi aziendali.
B6: 2 | C6: Basso | D6: Fino a 5.000€ | E6: Notizie negative pubblicate sulla stampa di settore. Lieve situazione imbarazzante, di portata limitata. Divulgazione di informazioni non pubbliche, ma senza ripercussioni negative per l'attività aziendale. | F6: Violazioni contrattuali di lieve entità e/o reclami formali risolvibili senza conseguenze legali e senza compromettere il rapporto di lavoro. Nessuna violazione di normative cogenti. Coinvolgimento dell'ufficio legale per supporto o chiarimenti. | G6: Limitazioni operative temporanee per specifici team di lavoro. Interruzione o ritardo della consegna fino a una settimana. Conseguenze sull'efficienza di un processo aziendale non critico.
B7: 3 | C7: Medio | D7: Tra 5.000€ e 15.000€ | E7: Reclami o giudizi negativi da parte dei clienti. Notizie negative pubblicate sulla stampa nazionale con grave imbarazzo. | F7: Violazione significativa di un contratto o di una legge con danno quantificabile. Attivazione di clausole contrattuali (penali, richieste di risarcimento). Avvio di contenzioso o negoziazioni con l'assistenza dell'ufficio legale. | G7: Restrizioni operative temporanee su una parte di un sito, senza necessità di chiusura. Interruzione o ritardo delle consegne fino a 2-4 settimane, con soluzioni alternative disponibili. Conseguenze sull'efficienza/continuità dei processi aziendali non critici.
B8: 4 | C8: Alto | D8: Tra 15.000€ e 50.000€ | E8: Pubblicazione di articoli negativi su diverse testate giornalistiche nazionali. Perdita di fiducia nell'Azienda. Violazione del sistema informativo che potrebbe comportare conseguenze a livello legale, finanziario, di sicurezza o di proprietà intellettuale per clienti, dipendenti e/o fornitori. | F8: Avvio di controversie legali in ambito civile o commerciale. Applicazione di sanzioni significative o risarcimenti danni. Coinvolgimento delle Autorità. | G8: Chiusura parziale di un sito. Interruzione o ritardo delle consegne per un mese o più. Conseguenze sull'efficienza/continuità di uno o più processi aziendali critici.
B9: 5 | C9: Molto Alto | D9: Effetti a lungo termine sulla redditività commerciale dell'Azienda. Oltre i 50.000€ | E9: Notevole risonanza negativa da parte della stampa e dei media a livello internazionale. Perdita totale di fiducia nella capacità dell'Azienda di fornire i propri servizi. Grave violazione del sistema informativo che potrebbe compromettere la riservatezza dei dati relativi a prodotti, attività commerciali, clienti, dipendenti e/o collaboratori. | F9: Cause legali multiple o collettive. Sanzioni significative da parte delle Autorità e/o sentenze sfavorevoli. Risoluzione di contratti strategici, sospensione di licenze o permessi di esercizio. Interruzione totale o parziale delle attività aziendali. | G9: Chiusura dell'intero sito. Interruzione o ritardo nella consegna di un prodotto per 3 mesi o più. Impianto di produzione fuori servizio.

Sheet Obiettivi continuità
D1: Business Impact Analysis (BIA) | I1: MDPR28.1.A
I2: Rev. 0.0 | J2: 46136
B5: Obiettivi di continuità
B6: [Per ciascuna attività di business, indicare i valori di MTPD, RTO e RPO e le priorità di ripristino]. Vedere il riquadro a destra per le definizioni.
B8: ID | C8: ATTIVITÀ DI BUSINESS | D8: MTPD | E8: RTO | F8: RPO | G8: PRIORITÀ
B9: 1
B10: 2
B11: 3
B12: 4
B13: 5
B14: 6
B15: 7
B16: 8
B17: 9
B18: 10

Sheet Soluzioni e Piani di BC
D1: Business Impact Analysis (BIA) | I1: MDPR28.1.A
I2: Rev. 0.0 | J2: 46136
B4: Identificazione delle soluzioni e dei piani di continuità operativa
B5: [Elencare le attività ICT a supporto delle attività aziendali critiche, con l'identificazione delle soluzioni di continuità, inclusi i piani di continuità ICT, i quali applicano le soluzioni di continuità individuate. Per ciascuna attività ICT, riportare i relativi valori di RTO e RPO]
B7: ID | C7: ATTIVITÀ ICT | D7: SOLUZIONI E PIANI DI CONTINUITÀ OPERATIVA | E7: RTO | F7: RTO da piano | G7: RPO
B8: 1
B9: 2
B10: 3
B11: 4
B12: 5
B13: 6
B14: 7
B15: 8

Sheet Dati
A1: UNO TRA QUESTI VALORI
A2: Selezionare…
A3: 1
A4: 2
A5: 3
A6: 4
A7: 5
